BEGIN:VCALENDAR
VERSION:2.0
PRODID:-//Tukios.com/
BEGIN:VEVENT
UID:5a74008d-81b3-41f8-b797-3ec1e1827c03@www.optimafuneralhome.com
DTSTAMP:20260424T023633Z
DTSTART:20260424T160000Z
DTEND:20260424T200000Z
SUMMARY:Viewing
DESCRIPTION:
URL:https://www.optimafuneralhome.com/obituaries/adriel-martinez
LOCATION: 4901 Compton Ave  Los Angeles CA 90011
GEO:33.9982478;-118.2480017
END:VEVENT
END:VCALENDAR