BEGIN:VCALENDAR
VERSION:2.0
PRODID:-//Tukios.com/
BEGIN:VEVENT
UID:d037e5ab-d408-47a8-a86e-6bf1f6cdfa43@www.optimafuneralhome.com
DTSTAMP:20260424T023509Z
DTSTART:20260424T210000Z
DTEND:20260424T220000Z
SUMMARY:Burial
DESCRIPTION:
URL:https://www.optimafuneralhome.com/obituaries/adriel-martinez
LOCATION:Inglewood Park Cemetery 720 E Florence Ave  Inglewood CA 90301
GEO:33.9709591;-118.3434427
END:VEVENT
END:VCALENDAR