BEGIN:VCALENDAR
VERSION:2.0
PRODID:-//Tukios.com/
BEGIN:VEVENT
UID:f1a76288-7800-453d-9e8c-032f88e17938@www.optimafuneralhome.com
DTSTAMP:20260424T023220Z
DTSTART:20260424T160000Z
DTEND:20260424T200000Z
SUMMARY:Parking
DESCRIPTION:
URL:https://www.optimafuneralhome.com/obituaries/adriel-martinez
LOCATION: 5010 Compton Ave  Los Angeles CA 90011
GEO:33.9971094;-118.2475245
END:VEVENT
END:VCALENDAR