BEGIN:VCALENDAR
VERSION:2.0
PRODID:-//Tukios.com/
BEGIN:VEVENT
UID:b6a5aba3-1ae8-4b5c-8c74-f0f81b8d4e5b@www.optimafuneralhome.com
DTSTAMP:20260424T024503Z
DTSTART:20260502T230000Z
DTEND:20260503T050000Z
SUMMARY:Viewing
DESCRIPTION:
URL:https://www.optimafuneralhome.com/obituaries/amador-vasquez
LOCATION: 4901 Compton Ave  Los Angeles CA 90011
GEO:33.9982478;-118.2480017
END:VEVENT
END:VCALENDAR