BEGIN:VCALENDAR
VERSION:2.0
PRODID:-//Tukios.com/
BEGIN:VEVENT
UID:694e933d-5ba1-4d7f-afe8-01f6f13e6b83@www.optimafuneralhome.com
DTSTAMP:20260424T024526Z
DTSTART:20260502T230000Z
DTEND:20260503T050000Z
SUMMARY:Parking
DESCRIPTION:
URL:https://www.optimafuneralhome.com/obituaries/amador-vasquez
LOCATION: 5010 Compton Ave  Los Angeles CA 90011
GEO:33.9971094;-118.2475245
END:VEVENT
END:VCALENDAR