BEGIN:VCALENDAR
VERSION:2.0
PRODID:-//Tukios.com/
BEGIN:VEVENT
UID:99ee0665-195e-44cb-b20a-1f39518c4171@www.optimafuneralhome.com
DTSTAMP:20260424T023936Z
DTSTART:20260502T160000Z
DTEND:20260502T200000Z
SUMMARY:Viewing
DESCRIPTION:
URL:https://www.optimafuneralhome.com/obituaries/elizabeth-gijon-sosa
LOCATION: 4901 Compton Ave  Los Angeles CA 90011
GEO:33.9982478;-118.2480017
END:VEVENT
END:VCALENDAR