BEGIN:VCALENDAR
VERSION:2.0
PRODID:-//Tukios.com/
BEGIN:VEVENT
UID:2b174017-2e05-4fcc-aa9c-452d07046ad7@www.optimafuneralhome.com
DTSTAMP:20260424T024208Z
DTSTART:20260502T160000Z
DTEND:20260502T200000Z
SUMMARY:Parking
DESCRIPTION:
URL:https://www.optimafuneralhome.com/obituaries/elizabeth-gijon-sosa
LOCATION: 5010 Compton Ave  Los Angeles CA 90011
GEO:33.9971094;-118.2475245
END:VEVENT
END:VCALENDAR