BEGIN:VCALENDAR
VERSION:2.0
PRODID:-//Tukios.com/
BEGIN:VEVENT
UID:26364a6a-42da-4bb0-b344-f29d89d07ae6@www.optimafuneralhome.com
DTSTAMP:20260424T024007Z
DTSTART:20260502T210000Z
DTEND:20260502T220000Z
SUMMARY:Burial
DESCRIPTION:
URL:https://www.optimafuneralhome.com/obituaries/elizabeth-gijon-sosa
LOCATION: 720 E Florence Ave  Inglewood CA 90301
GEO:33.9708891;-118.3435467
END:VEVENT
END:VCALENDAR