BEGIN:VCALENDAR
VERSION:2.0
PRODID:-//Tukios.com/
BEGIN:VEVENT
UID:ab30ad62-e93e-4da3-aa08-df658d10de9e@www.optimafuneralhome.com
DTSTAMP:20260424T023638Z
DTSTART:20260501T170000Z
DTEND:20260501T210000Z
SUMMARY:Service
DESCRIPTION:
URL:https://www.optimafuneralhome.com/obituaries/jeanette-lyiscott
LOCATION:14517 Crenshaw Blvd 14517 Crenshaw Blvd  Gardena CA 90249
GEO:33.8995986;-118.3269413
END:VEVENT
END:VCALENDAR