BEGIN:VCALENDAR
VERSION:2.0
PRODID:-//Tukios.com/
BEGIN:VEVENT
UID:6dc1b406-f194-4383-aede-f8f52df124a1@www.optimafuneralhome.com
DTSTAMP:20260422T021450Z
DTSTART:20260429T170000Z
DTEND:20260429T200000Z
SUMMARY:Viewing
DESCRIPTION:
URL:https://www.optimafuneralhome.com/obituaries/maria-reyes-2026
LOCATION: 4901 Compton Ave  Los Angeles CA 90011
GEO:33.9982478;-118.2480017
END:VEVENT
END:VCALENDAR