BEGIN:VCALENDAR
VERSION:2.0
PRODID:-//Tukios.com/
BEGIN:VEVENT
UID:49ce5067-cb8b-4c0e-9fe9-83e6f983c2c8@www.optimafuneralhome.com
DTSTAMP:20260422T021622Z
DTSTART:20260429T170000Z
DTEND:20260429T200000Z
SUMMARY:PARKING LOT
DESCRIPTION:
URL:https://www.optimafuneralhome.com/obituaries/maria-reyes-2026
LOCATION: 5010 Compton Ave  Los Angeles CA 90011
GEO:33.9971094;-118.2475245
END:VEVENT
END:VCALENDAR