BEGIN:VCALENDAR
VERSION:2.0
PRODID:-//Tukios.com/
BEGIN:VEVENT
UID:ac0f20b6-bbb9-4850-99a4-fef1f8472005@www.optimafuneralhome.com
DTSTAMP:20260422T021404Z
DTSTART:20260429T210000Z
DTEND:20260429T220000Z
SUMMARY:Burial
DESCRIPTION:
URL:https://www.optimafuneralhome.com/obituaries/maria-reyes-2026
LOCATION: 720 E Florence Ave  Inglewood CA 90301
GEO:33.9708891;-118.3435467
END:VEVENT
END:VCALENDAR