BEGIN:VCALENDAR
VERSION:2.0
PRODID:-//Tukios.com/
BEGIN:VEVENT
UID:99e3895c-c408-4796-8334-41e92d1c127b@www.optimafuneralhome.com
DTSTAMP:20260424T023323Z
DTSTART:20260425T230000Z
DTEND:20260426T040000Z
SUMMARY:Viewing
DESCRIPTION:
URL:https://www.optimafuneralhome.com/obituaries/onesimo-flores
LOCATION: 4901 Compton Ave  Los Angeles CA 90011
GEO:33.9982478;-118.2480017
END:VEVENT
END:VCALENDAR