BEGIN:VCALENDAR
VERSION:2.0
PRODID:-//Tukios.com/
BEGIN:VEVENT
UID:ac79eaaa-38bc-40b5-9552-88cd9a2ff93f@www.optimafuneralhome.com
DTSTAMP:20260424T023220Z
DTSTART:20260425T230000Z
DTEND:20260426T040000Z
SUMMARY:Parking
DESCRIPTION:
URL:https://www.optimafuneralhome.com/obituaries/onesimo-flores
LOCATION: 5010 Compton Ave  Los Angeles CA 90011
GEO:33.9971094;-118.2475245
END:VEVENT
END:VCALENDAR