BEGIN:VCALENDAR
VERSION:2.0
PRODID:-//Tukios.com/
BEGIN:VEVENT
UID:b7a340d6-1ef1-4090-b9de-b7c61141d72b@www.optimafuneralhome.com
DTSTAMP:20260424T023323Z
DTSTART:20260502T000000Z
DTEND:20260502T040000Z
SUMMARY:Viewing
DESCRIPTION:
URL:https://www.optimafuneralhome.com/obituaries/pablo-cabrera-coto
LOCATION: 4901 Compton Ave  Los Angeles CA 90011
GEO:33.9982478;-118.2480017
END:VEVENT
END:VCALENDAR