BEGIN:VCALENDAR
VERSION:2.0
PRODID:-//Tukios.com/
BEGIN:VEVENT
UID:da12d38f-67fc-408f-b8c5-f496d475c2ac@www.optimafuneralhome.com
DTSTAMP:20260424T023356Z
DTSTART:20260502T000000Z
DTEND:20260502T040000Z
SUMMARY:Parking
DESCRIPTION:
URL:https://www.optimafuneralhome.com/obituaries/pablo-cabrera-coto
LOCATION: 5010 Compton Ave  Los Angeles CA 90011
GEO:33.9971094;-118.2475245
END:VEVENT
END:VCALENDAR