BEGIN:VCALENDAR
VERSION:2.0
PRODID:-//Tukios.com/
BEGIN:VEVENT
UID:e3926f93-14dc-4b3b-9656-f4f915aedbbe@www.optimafuneralhome.com
DTSTAMP:20260424T023220Z
DTSTART:20260502T170000Z
DTEND:20260502T180000Z
SUMMARY:Burial
DESCRIPTION:
URL:https://www.optimafuneralhome.com/obituaries/pablo-cabrera-coto
LOCATION:Good Shepherd Cemetery 43121 70th St W  Lancaster CA 93536
GEO:34.6666149;-118.2552205
END:VEVENT
END:VCALENDAR